3.148794788
0.087128555
0.087128555
-3.148794788
634098.047
4775917.22
