3.1488996
0.083254476
0.083254476
-3.1488996
621255.882
4784792.801
