3.1488996
0.083254476
0.083254476
-3.1488996
557843.458
4783289.374
