3.148923558
0.082343358
0.082343358
-3.148923558
567899.2158
4792710.917
