3.148923558
0.082343358
0.082343358
-3.148923558
576529.9248
4792933.167
