3.148923558
0.082343358
0.082343358
-3.148923558
585142.1118
4793192.459
