3.148923558
0.082343358
0.082343358
-3.148923558
628091.9248
4803341.875
