3.148899891
0.083243486
0.083243486
-3.148899891
621169.1851
4803195.52
