3.148899891
0.083243486
0.083243486
-3.148899891
618224.3721
4803121.437
