3.148899891
0.083243486
0.083243486
-3.148899891
606759.9771
4802806.583
