3.148899891
0.083243486
0.083243486
-3.148899891
603870.7271
4802732.5
