3.148899891
0.083243486
0.083243486
-3.148899891
592350.7681
4802491.729
