3.148899891
0.083243486
0.083243486
-3.148899891
586627.8311
4802380.604
