2.221550592
2.233206879
2.233206879
-2.221550592
569822.9225
4783650.768
