2.221550592
2.233206879
2.233206879
-2.221550592
565464.6805
4779321.012
