2.221550592
2.233206879
2.233206879
-2.221550592
552532.3815
4766303.257
