0.03946327
3.149752792
3.149752792
-0.03946327
530406.0607
4683673.382
