0.03946327
3.149752792
3.149752792
-0.03946327
530776.3687
4714579.867
