0.03946327
3.149752792
3.149752792
-0.03946327
530861.8247
4720647.223
