0.103182019
-3.148309621
-3.148309621
-0.103182019
658192.5661
4679486.01
