1.381690059
2.830800696
2.830800696
-1.381690059
647383.1587
4696407.304
