1.381690059
2.830800696
2.830800696
-1.381690059
660685.7657
4723468.282
