1.381690059
2.830800696
2.830800696
-1.381690059
671225.3047
4745117.065
