1.381690059
2.830800696
2.830800696
-1.381690059
679030.2607
4761296.681
