1.381690059
2.830800696
2.830800696
-1.381690059
681679.3877
4766680.392
