0.06550163
-3.1493189
-3.1493189
-0.06550163
630984.5773
4680621.962
