0.06550163
-3.1493189
-3.1493189
-0.06550163
629617.2863
4748032.282
