0.06550163
-3.1493189
-3.1493189
-0.06550163
629133.0363
4772486.861
