0.0582085547396885
-0.068642291301476
-0.068642291301476
-0.0582085547396885
585605.083246745
4729269.18715679
