0.0524999767831302
-4.9373786464466E-05
-4.9373786464466E-05
-0.0524999767831302
609457.000425202
4658869.43472996
